BEGIN:VCALENDAR
VERSION:2.0
PRODID:-//VIRTUS - ECPv6.15.20//NONSGML v1.0//EN
CALSCALE:GREGORIAN
METHOD:PUBLISH
X-ORIGINAL-URL:https://virtus.sport
X-WR-CALDESC:Events for VIRTUS
REFRESH-INTERVAL;VALUE=DURATION:PT1H
X-Robots-Tag:noindex
X-PUBLISHED-TTL:PT1H
BEGIN:VTIMEZONE
TZID:Asia/Tokyo
BEGIN:STANDARD
TZOFFSETFROM:+0900
TZOFFSETTO:+0900
TZNAME:JST
DTSTART:20250101T000000
END:STANDARD
END:VTIMEZONE
BEGIN:VTIMEZONE
TZID:Europe/Vienna
BEGIN:DAYLIGHT
TZOFFSETFROM:+0100
TZOFFSETTO:+0200
TZNAME:CEST
DTSTART:20250330T010000
END:DAYLIGHT
BEGIN:STANDARD
TZOFFSETFROM:+0200
TZOFFSETTO:+0100
TZNAME:CET
DTSTART:20251026T010000
END:STANDARD
BEGIN:DAYLIGHT
TZOFFSETFROM:+0100
TZOFFSETTO:+0200
TZNAME:CEST
DTSTART:20260329T010000
END:DAYLIGHT
BEGIN:STANDARD
TZOFFSETFROM:+0200
TZOFFSETTO:+0100
TZNAME:CET
DTSTART:20261025T010000
END:STANDARD
BEGIN:DAYLIGHT
TZOFFSETFROM:+0100
TZOFFSETTO:+0200
TZNAME:CEST
DTSTART:20270328T010000
END:DAYLIGHT
BEGIN:STANDARD
TZOFFSETFROM:+0200
TZOFFSETTO:+0100
TZNAME:CET
DTSTART:20271031T010000
END:STANDARD
END:VTIMEZONE
BEGIN:VTIMEZONE
TZID:America/Denver
BEGIN:DAYLIGHT
TZOFFSETFROM:-0700
TZOFFSETTO:-0600
TZNAME:MDT
DTSTART:20250309T090000
END:DAYLIGHT
BEGIN:STANDARD
TZOFFSETFROM:-0600
TZOFFSETTO:-0700
TZNAME:MST
DTSTART:20251102T080000
END:STANDARD
BEGIN:DAYLIGHT
TZOFFSETFROM:-0700
TZOFFSETTO:-0600
TZNAME:MDT
DTSTART:20260308T090000
END:DAYLIGHT
BEGIN:STANDARD
TZOFFSETFROM:-0600
TZOFFSETTO:-0700
TZNAME:MST
DTSTART:20261101T080000
END:STANDARD
BEGIN:DAYLIGHT
TZOFFSETFROM:-0700
TZOFFSETTO:-0600
TZNAME:MDT
DTSTART:20270314T090000
END:DAYLIGHT
BEGIN:STANDARD
TZOFFSETFROM:-0600
TZOFFSETTO:-0700
TZNAME:MST
DTSTART:20271107T080000
END:STANDARD
END:VTIMEZONE
BEGIN:VEVENT
DTSTART;VALUE=DATE:20260130
DTEND;VALUE=DATE:20260202
DTSTAMP:20260425T064831
CREATED:20250919T113135Z
LAST-MODIFIED:20250919T113352Z
UID:31560-1769731200-1769990399@virtus.sport
SUMMARY:AO26 Intellectual Disability Championships
DESCRIPTION:We are happy to sanction the AO26 Intellectual Disability Championships in Australia. The event will be taking place as part of the Australian Open Grand Slam.
URL:https://virtus.sport/eventsvs/ao26-intellectual-disability-championships
LOCATION:Melbourne Park\, Australia
CATEGORIES:Sanctioned event
ATTACH;FMTTYPE=image/jpeg:https://virtus.sport/wp-content/uploads/2025/09/422367522_890052066453951_5866103891843821973_n-e1758281568395.jpg
ORGANIZER;CN="Tennis Australia":MAILTO:bdew@tennis.com.au
END:VEVENT
BEGIN:VEVENT
DTSTART;VALUE=DATE:20260204
DTEND;VALUE=DATE:20260208
DTSTAMP:20260425T064831
CREATED:20250722T121457Z
LAST-MODIFIED:20260107T093903Z
UID:30942-1770163200-1770508799@virtus.sport
SUMMARY:OPEN Alpine Ski - Kitzbuhel\, Austria
DESCRIPTION:We are delighted to again be supporting the Austrian Open Alpine Ski Championships as part of the Alpine Ski series – more events will be announced soon. \nFor event information\, please contact the hosts. \n\n2026 Invitation Kitzbühel\nRegistration Alpine
URL:https://virtus.sport/eventsvs/open-alpine-ski-kitzbuhel-austria
LOCATION:Kitzbuhel\, Austria
CATEGORIES:Sanctioned event
ATTACH;FMTTYPE=image/jpeg:https://virtus.sport/wp-content/uploads/2025/07/SM_VirtusWM_231603_0546-scaled.jpg
ORGANIZER;CN="%C3%96sterreichischer Behindertensportverband":MAILTO:office@obsv.at
END:VEVENT
BEGIN:VEVENT
DTSTART;VALUE=DATE:20260210
DTEND;VALUE=DATE:20260214
DTSTAMP:20260425T064831
CREATED:20250121T165539Z
LAST-MODIFIED:20260123T101006Z
UID:28988-1770681600-1771027199@virtus.sport
SUMMARY:Huntsman Cup (Alpine Skiing) - FIS Sanctioned event
DESCRIPTION:Virtus is pleased to sanction the Huntsman Cup for the 2nd time\, an annual event recognised by FIS and hosted by the National Ability Center at Park City Mountain\, Utah. \nFor further information please contact Athletes Without Limits
URL:https://virtus.sport/eventsvs/huntsman-cup-alpine-skiing
LOCATION:Park City Mountain\, Utah
CATEGORIES:Sanctioned event
ATTACH;FMTTYPE=image/jpeg:https://virtus.sport/wp-content/uploads/2025/01/2025_alpine-ski_wc-631_54428472111_o-Large.jpeg
ORGANIZER;CN="National Ability Centre":MAILTO:Barry@athleteswithoutlimits.org
END:VEVENT
END:VCALENDAR