BEGIN:VCALENDAR
VERSION:2.0
PRODID:-//VIRTUS - ECPv6.15.20//NONSGML v1.0//EN
CALSCALE:GREGORIAN
METHOD:PUBLISH
X-ORIGINAL-URL:https://virtus.sport
X-WR-CALDESC:Events for VIRTUS
REFRESH-INTERVAL;VALUE=DURATION:PT1H
X-Robots-Tag:noindex
X-PUBLISHED-TTL:PT1H
BEGIN:VTIMEZONE
TZID:Asia/Tokyo
BEGIN:STANDARD
TZOFFSETFROM:+0900
TZOFFSETTO:+0900
TZNAME:JST
DTSTART:20250101T000000
END:STANDARD
END:VTIMEZONE
BEGIN:VTIMEZONE
TZID:Europe/Paris
BEGIN:DAYLIGHT
TZOFFSETFROM:+0100
TZOFFSETTO:+0200
TZNAME:CEST
DTSTART:20250330T010000
END:DAYLIGHT
BEGIN:STANDARD
TZOFFSETFROM:+0200
TZOFFSETTO:+0100
TZNAME:CET
DTSTART:20251026T010000
END:STANDARD
BEGIN:DAYLIGHT
TZOFFSETFROM:+0100
TZOFFSETTO:+0200
TZNAME:CEST
DTSTART:20260329T010000
END:DAYLIGHT
BEGIN:STANDARD
TZOFFSETFROM:+0200
TZOFFSETTO:+0100
TZNAME:CET
DTSTART:20261025T010000
END:STANDARD
BEGIN:DAYLIGHT
TZOFFSETFROM:+0100
TZOFFSETTO:+0200
TZNAME:CEST
DTSTART:20270328T010000
END:DAYLIGHT
BEGIN:STANDARD
TZOFFSETFROM:+0200
TZOFFSETTO:+0100
TZNAME:CET
DTSTART:20271031T010000
END:STANDARD
END:VTIMEZONE
BEGIN:VEVENT
DTSTART;VALUE=DATE:20260307
DTEND;VALUE=DATE:20260309
DTSTAMP:20260425T052928
CREATED:20260209T111605Z
LAST-MODIFIED:20260209T111605Z
UID:32589-1772841600-1773014399@virtus.sport
SUMMARY:Iceland Swimming Asmegin Mot SH 2026
DESCRIPTION:Virtus is delighted to sanction the “Iceland Swimming Asmegin Mot SH 2026” competition taking place next month. For more information\, contact the organisers.
URL:https://virtus.sport/eventsvs/iceland-swimming-asmegin-mot-sh-2026
LOCATION:Hafnarfjordur\, Iceland\, Hafnarfjordur\, Iceland\, Iceland
CATEGORIES:Sanctioned event
ATTACH;FMTTYPE=image/jpeg:https://virtus.sport/wp-content/uploads/2026/02/DSCF7638-Large.jpeg
END:VEVENT
BEGIN:VEVENT
DTSTART;VALUE=DATE:20260317
DTEND;VALUE=DATE:20260322
DTSTAMP:20260425T052928
CREATED:20251217T105018Z
LAST-MODIFIED:20260106T110033Z
UID:32393-1773705600-1774137599@virtus.sport
SUMMARY:French Open Alpine Ski Championships
DESCRIPTION:We are delighted to once again sanction the French Open Championships\, part of the Alpine Ski Series. \nFor further information\, please contact the organisers. \nEntry Information 
URL:https://virtus.sport/eventsvs/french-open-alpine-ski-championships-2
LOCATION:Gourette\, France
CATEGORIES:Sanctioned event
ATTACH;FMTTYPE=image/jpeg:https://virtus.sport/wp-content/uploads/2024/11/SM_VirtusWM_231603_1284-scaled.jpg
ORGANIZER;CN="FFSA":MAILTO:events@sportadapte.fr
END:VEVENT
END:VCALENDAR