BEGIN:VCALENDAR
VERSION:2.0
PRODID:-//VIRTUS - ECPv6.15.20//NONSGML v1.0//EN
CALSCALE:GREGORIAN
METHOD:PUBLISH
X-WR-CALNAME:VIRTUS
X-ORIGINAL-URL:https://virtus.sport
X-WR-CALDESC:Events for VIRTUS
REFRESH-INTERVAL;VALUE=DURATION:PT1H
X-Robots-Tag:noindex
X-PUBLISHED-TTL:PT1H
BEGIN:VTIMEZONE
TZID:Asia/Tokyo
BEGIN:STANDARD
TZOFFSETFROM:+0900
TZOFFSETTO:+0900
TZNAME:JST
DTSTART:20250101T000000
END:STANDARD
END:VTIMEZONE
BEGIN:VEVENT
DTSTART;VALUE=DATE:20260602
DTEND;VALUE=DATE:20260607
DTSTAMP:20260425T053443
CREATED:20260318T151159Z
LAST-MODIFIED:20260423T165631Z
UID:32832-1780358400-1780790399@virtus.sport
SUMMARY:National Swimming Open\, Intellectual Disability II1\, II2\, II3\, Cali 2026
DESCRIPTION:We are thrilled to sanction the upcoming ‘National Swimming Open\, Intellectual Disability’ taking place in Cali\, Colombia.  \nRegistration deadline: 17 May 2026 \nFor registration or more information\, contact John Anderson Gracia
URL:https://virtus.sport/eventsvs/national-swimming-open-intellectual-disability-ii1-ii2-ii3-cali-2026
LOCATION:Cali\, Colombia
CATEGORIES:Sanctioned event
ATTACH;FMTTYPE=image/jpeg:https://virtus.sport/wp-content/uploads/2026/03/DSCF7287-scaled.jpeg
END:VEVENT
BEGIN:VEVENT
DTSTART;VALUE=DATE:20260619
DTEND;VALUE=DATE:20260622
DTSTAMP:20260425T053443
CREATED:20260317T175213Z
LAST-MODIFIED:20260317T175213Z
UID:32813-1781827200-1782086399@virtus.sport
SUMMARY:Lexus Nottingham Open (LTA)
DESCRIPTION:We are pleased to sanction the Lexus Nottingham Open (LTA)\, an annual professional grass-court tennis tournament held at the Nottingham Tennis Centre in the United Kingdom\, typically running in June as a crucial warm-up for Wimbledon. It features a WTA 250 event for women and an ATP Challenger Tour 125 event for men.  \nFor more information and registration\, contact Sophie Hall.
URL:https://virtus.sport/eventsvs/lexus-nottingham-open-lta
LOCATION:Nottingham Tennis Centre\, Nottingham\, United Kingdom
CATEGORIES:Sanctioned event
ATTACH;FMTTYPE=image/jpeg:https://virtus.sport/wp-content/uploads/2026/03/GG23_G.Picout_2023.06.05-139-Large.jpeg
ORGANIZER;CN="Lawn Tennis Association (LTA)":MAILTO:sophie.hall@lta.org.uk
END:VEVENT
BEGIN:VEVENT
DTSTART;VALUE=DATE:20260620
DTEND;VALUE=DATE:20260622
DTSTAMP:20260425T053443
CREATED:20260113T114408Z
LAST-MODIFIED:20260402T132215Z
UID:32443-1781913600-1782086399@virtus.sport
SUMMARY:ParaPanne Open para-cycling Race
DESCRIPTION:Virtus is delighted to sanction the ‘ParaPanne Open para-cycling Race‘\, an international para-cycling race held annually in De Panne\, Belgium. \nEvent Website: https://www.parapanne.be/editie-2026-1 \nFor registration\, please contact Info@parapanne.be. \nFor other queries\, please contact gilles.richiero@virtus.sport
URL:https://virtus.sport/eventsvs/parapanne-open-para-cycling-race
LOCATION:De Panne\, Belgium\, Belgium
CATEGORIES:Sanctioned event
ATTACH;FMTTYPE=image/jpeg:https://virtus.sport/wp-content/uploads/2026/01/GG23_DETREZ_20230605_-42-scaled.jpg
END:VEVENT
BEGIN:VEVENT
DTSTART;VALUE=DATE:20260622
DTEND;VALUE=DATE:20260625
DTSTAMP:20260425T053443
CREATED:20251021T175113Z
LAST-MODIFIED:20251021T175113Z
UID:31886-1782086400-1782345599@virtus.sport
SUMMARY:World Inclusive Para Skating Glasgow 2026 Championships
DESCRIPTION:Virtus is delighted to sanction the ‘World Inclusive Para Skating Glasgow 2026 Championships’ to be held in Glasgow next year in June. The event will be organised by ‘Inclusive Skating’. The event will be organised during the Glasgow 2026 Festival in the lead up to the Commonwealth Games\, which are held from 23 July to 2nd August. \n\n\n\n    \n        \n            \n            \n                Information Pack - World Inclusive Para Skating Glasgow 2026 Championships\n                 1 file(s)  419 KB\n            \n            \n                Download
URL:https://virtus.sport/eventsvs/world-inclusive-para-skating-glasgow-2026-championships
LOCATION:Glasgow\, Scotland\, United Kingdom
CATEGORIES:Sanctioned event
ATTACH;FMTTYPE=image/jpeg:https://virtus.sport/wp-content/uploads/2025/10/Z8K3115-scaled.jpg
END:VEVENT
END:VCALENDAR